Workbook

Sheet Vergleich
A2: CRISTMY · Zwei Listen sicher vergleichen
A3: Fiktive Arbeitsprobe · Mengen in Stück · keine Kundendaten
A4: =Quelldaten!A4 -> Eingaben: keine offenen Hinweise (Dubletten siehe Vergleich)
A5: Artikel-ID | B5: Treffer Alt | C5: Treffer Neu | D5: Menge Alt | E5: Menge Neu | F5: Ergebnis | G5: Soll-Ergebnis | H5: Gegenprobe
A6: A101 | B6: =COUNTIF(Quelldaten!$C$6:$C$25,"ID:"&A6) -> 1 | C6: =COUNTIF(Quelldaten!$G$6:$G$25,"ID:"&A6) -> 1 | D6: =IF(B6=0,"–",IF(B6>1,"prüfen",IF(COUNTIFS(Quelldaten!$C$6:$C$25,"ID:"&A6,Quelldaten!$D$6:$D$25,"<>OK")>0,"ungültig",SUMIF(Quelldaten!$C$6:$C$25,"ID:"&A6,Quelldaten!$B$6:$B$25)))) -> 12 | E6: =IF(C6=0,"–",IF(C6>1,"prüfen",IF(COUNTIFS(Quelldaten!$G$6:$G$25,"ID:"&A6,Quelldaten!$H$6:$H$25,"<>OK")>0,"ungültig",SUMIF(Quelldaten!$G$6:$G$25,"ID:"&A6,Quelldaten!$F$6:$F$25)))) -> 12 | F6: =IF(OR(B6>1,C6>1),"ID doppelt",IF(OR(D6="ungültig",E6="ungültig"),"Eingabe prüfen",IF(AND(B6=0,C6=0),"ID fehlt beidseitig",IF(B6=0,"Neu",IF(C6=0,"Fehlt in Neu",IF(D6=E6,"Unverändert","Geändert")))))) -> Unverändert | G6: Unverändert | H6: =IF(F6=G6,"OK","Abweichung") -> OK
A7: A102 | B7: =COUNTIF(Quelldaten!$C$6:$C$25,"ID:"&A7) -> 1 | C7: =COUNTIF(Quelldaten!$G$6:$G$25,"ID:"&A7) -> 1 | D7: =IF(B7=0,"–",IF(B7>1,"prüfen",IF(COUNTIFS(Quelldaten!$C$6:$C$25,"ID:"&A7,Quelldaten!$D$6:$D$25,"<>OK")>0,"ungültig",SUMIF(Quelldaten!$C$6:$C$25,"ID:"&A7,Quelldaten!$B$6:$B$25)))) -> 24 | E7: =IF(C7=0,"–",IF(C7>1,"prüfen",IF(COUNTIFS(Quelldaten!$G$6:$G$25,"ID:"&A7,Quelldaten!$H$6:$H$25,"<>OK")>0,"ungültig",SUMIF(Quelldaten!$G$6:$G$25,"ID:"&A7,Quelldaten!$F$6:$F$25)))) -> 27 | F7: =IF(OR(B7>1,C7>1),"ID doppelt",IF(OR(D7="ungültig",E7="ungültig"),"Eingabe prüfen",IF(AND(B7=0,C7=0),"ID fehlt beidseitig",IF(B7=0,"Neu",IF(C7=0,"Fehlt in Neu",IF(D7=E7,"Unverändert","Geändert")))))) -> Geändert | G7: Geändert | H7: =IF(F7=G7,"OK","Abweichung") -> OK
A8: A103 | B8: =COUNTIF(Quelldaten!$C$6:$C$25,"ID:"&A8) -> 1 | C8: =COUNTIF(Quelldaten!$G$6:$G$25,"ID:"&A8) -> 0 | D8: =IF(B8=0,"–",IF(B8>1,"prüfen",IF(COUNTIFS(Quelldaten!$C$6:$C$25,"ID:"&A8,Quelldaten!$D$6:$D$25,"<>OK")>0,"ungültig",SUMIF(Quelldaten!$C$6:$C$25,"ID:"&A8,Quelldaten!$B$6:$B$25)))) -> 18 | E8: =IF(C8=0,"–",IF(C8>1,"prüfen",IF(COUNTIFS(Quelldaten!$G$6:$G$25,"ID:"&A8,Quelldaten!$H$6:$H$25,"<>OK")>0,"ungültig",SUMIF(Quelldaten!$G$6:$G$25,"ID:"&A8,Quelldaten!$F$6:$F$25)))) -> – | F8: =IF(OR(B8>1,C8>1),"ID doppelt",IF(OR(D8="ungültig",E8="ungültig"),"Eingabe prüfen",IF(AND(B8=0,C8=0),"ID fehlt beidseitig",IF(B8=0,"Neu",IF(C8=0,"Fehlt in Neu",IF(D8=E8,"Unverändert","Geändert")))))) -> Fehlt in Neu | G8: Fehlt in Neu | H8: =IF(F8=G8,"OK","Abweichung") -> OK
A9: A104 | B9: =COUNTIF(Quelldaten!$C$6:$C$25,"ID:"&A9) -> 0 | C9: =COUNTIF(Quelldaten!$G$6:$G$25,"ID:"&A9) -> 1 | D9: =IF(B9=0,"–",IF(B9>1,"prüfen",IF(COUNTIFS(Quelldaten!$C$6:$C$25,"ID:"&A9,Quelldaten!$D$6:$D$25,"<>OK")>0,"ungültig",SUMIF(Quelldaten!$C$6:$C$25,"ID:"&A9,Quelldaten!$B$6:$B$25)))) -> – | E9: =IF(C9=0,"–",IF(C9>1,"prüfen",IF(COUNTIFS(Quelldaten!$G$6:$G$25,"ID:"&A9,Quelldaten!$H$6:$H$25,"<>OK")>0,"ungültig",SUMIF(Quelldaten!$G$6:$G$25,"ID:"&A9,Quelldaten!$F$6:$F$25)))) -> 32 | F9: =IF(OR(B9>1,C9>1),"ID doppelt",IF(OR(D9="ungültig",E9="ungültig"),"Eingabe prüfen",IF(AND(B9=0,C9=0),"ID fehlt beidseitig",IF(B9=0,"Neu",IF(C9=0,"Fehlt in Neu",IF(D9=E9,"Unverändert","Geändert")))))) -> Neu | G9: Neu | H9: =IF(F9=G9,"OK","Abweichung") -> OK
A10: A105 | B10: =COUNTIF(Quelldaten!$C$6:$C$25,"ID:"&A10) -> 2 | C10: =COUNTIF(Quelldaten!$G$6:$G$25,"ID:"&A10) -> 1 | D10: =IF(B10=0,"–",IF(B10>1,"prüfen",IF(COUNTIFS(Quelldaten!$C$6:$C$25,"ID:"&A10,Quelldaten!$D$6:$D$25,"<>OK")>0,"ungültig",SUMIF(Quelldaten!$C$6:$C$25,"ID:"&A10,Quelldaten!$B$6:$B$25)))) -> prüfen | E10: =IF(C10=0,"–",IF(C10>1,"prüfen",IF(COUNTIFS(Quelldaten!$G$6:$G$25,"ID:"&A10,Quelldaten!$H$6:$H$25,"<>OK")>0,"ungültig",SUMIF(Quelldaten!$G$6:$G$25,"ID:"&A10,Quelldaten!$F$6:$F$25)))) -> 40 | F10: =IF(OR(B10>1,C10>1),"ID doppelt",IF(OR(D10="ungültig",E10="ungültig"),"Eingabe prüfen",IF(AND(B10=0,C10=0),"ID fehlt beidseitig",IF(B10=0,"Neu",IF(C10=0,"Fehlt in Neu",IF(D10=E10,"Unverändert","Geändert")))))) -> ID doppelt | G10: ID doppelt | H10: =IF(F10=G10,"OK","Abweichung") -> OK
A11: A106 | B11: =COUNTIF(Quelldaten!$C$6:$C$25,"ID:"&A11) -> 1 | C11: =COUNTIF(Quelldaten!$G$6:$G$25,"ID:"&A11) -> 1 | D11: =IF(B11=0,"–",IF(B11>1,"prüfen",IF(COUNTIFS(Quelldaten!$C$6:$C$25,"ID:"&A11,Quelldaten!$D$6:$D$25,"<>OK")>0,"ungültig",SUMIF(Quelldaten!$C$6:$C$25,"ID:"&A11,Quelldaten!$B$6:$B$25)))) -> 0 | E11: =IF(C11=0,"–",IF(C11>1,"prüfen",IF(COUNTIFS(Quelldaten!$G$6:$G$25,"ID:"&A11,Quelldaten!$H$6:$H$25,"<>OK")>0,"ungültig",SUMIF(Quelldaten!$G$6:$G$25,"ID:"&A11,Quelldaten!$F$6:$F$25)))) -> 0 | F11: =IF(OR(B11>1,C11>1),"ID doppelt",IF(OR(D11="ungültig",E11="ungültig"),"Eingabe prüfen",IF(AND(B11=0,C11=0),"ID fehlt beidseitig",IF(B11=0,"Neu",IF(C11=0,"Fehlt in Neu",IF(D11=E11,"Unverändert","Geändert")))))) -> Unverändert | G11: Unverändert | H11: =IF(F11=G11,"OK","Abweichung") -> OK
A12: 00123 | B12: =COUNTIF(Quelldaten!$C$6:$C$25,"ID:"&A12) -> 1 | C12: =COUNTIF(Quelldaten!$G$6:$G$25,"ID:"&A12) -> 1 | D12: =IF(B12=0,"–",IF(B12>1,"prüfen",IF(COUNTIFS(Quelldaten!$C$6:$C$25,"ID:"&A12,Quelldaten!$D$6:$D$25,"<>OK")>0,"ungültig",SUMIF(Quelldaten!$C$6:$C$25,"ID:"&A12,Quelldaten!$B$6:$B$25)))) -> 5 | E12: =IF(C12=0,"–",IF(C12>1,"prüfen",IF(COUNTIFS(Quelldaten!$G$6:$G$25,"ID:"&A12,Quelldaten!$H$6:$H$25,"<>OK")>0,"ungültig",SUMIF(Quelldaten!$G$6:$G$25,"ID:"&A12,Quelldaten!$F$6:$F$25)))) -> 5 | F12: =IF(OR(B12>1,C12>1),"ID doppelt",IF(OR(D12="ungültig",E12="ungültig"),"Eingabe prüfen",IF(AND(B12=0,C12=0),"ID fehlt beidseitig",IF(B12=0,"Neu",IF(C12=0,"Fehlt in Neu",IF(D12=E12,"Unverändert","Geändert")))))) -> Unverändert | G12: Unverändert | H12: =IF(F12=G12,"OK","Abweichung") -> OK
A13: 123 | B13: =COUNTIF(Quelldaten!$C$6:$C$25,"ID:"&A13) -> 1 | C13: =COUNTIF(Quelldaten!$G$6:$G$25,"ID:"&A13) -> 1 | D13: =IF(B13=0,"–",IF(B13>1,"prüfen",IF(COUNTIFS(Quelldaten!$C$6:$C$25,"ID:"&A13,Quelldaten!$D$6:$D$25,"<>OK")>0,"ungültig",SUMIF(Quelldaten!$C$6:$C$25,"ID:"&A13,Quelldaten!$B$6:$B$25)))) -> 7 | E13: =IF(C13=0,"–",IF(C13>1,"prüfen",IF(COUNTIFS(Quelldaten!$G$6:$G$25,"ID:"&A13,Quelldaten!$H$6:$H$25,"<>OK")>0,"ungültig",SUMIF(Quelldaten!$G$6:$G$25,"ID:"&A13,Quelldaten!$F$6:$F$25)))) -> 9 | F13: =IF(OR(B13>1,C13>1),"ID doppelt",IF(OR(D13="ungültig",E13="ungültig"),"Eingabe prüfen",IF(AND(B13=0,C13=0),"ID fehlt beidseitig",IF(B13=0,"Neu",IF(C13=0,"Fehlt in Neu",IF(D13=E13,"Unverändert","Geändert")))))) -> Geändert | G13: Geändert | H13: =IF(F13=G13,"OK","Abweichung") -> OK
A16: Was ein Vergleich nach Zeilennummer übersieht
A18: Quellzeile | B18: ID Alt | C18: ID Neu | D18: Menge Alt | E18: Menge Neu | F18: Zeile vergleichbar?
A19: =6 -> 6 | B19: =Quelldaten!A6 -> A101 | C19: =Quelldaten!E6 -> A102 | D19: =Quelldaten!B6 -> 12 | E19: =Quelldaten!F6 -> 27 | F19: =IF(B19=C19,"Ja","Nein: andere ID") -> Nein: andere ID
A20: =7 -> 7 | B20: =Quelldaten!A7 -> A102 | C20: =Quelldaten!E7 -> A101 | D20: =Quelldaten!B7 -> 24 | E20: =Quelldaten!F7 -> 12 | F20: =IF(B20=C20,"Ja","Nein: andere ID") -> Nein: andere ID
A22: A101 bleibt bei 12. Der Abgleich über die ID erkennt das trotz vertauschter Zeilen.
A24: ="Aktuell: "&COUNTIF(F6:F13,"Unverändert")&" unverändert; "&COUNTIF(F6:F13,"Geändert")&" geändert; "&COUNTIF(F6:F13,"Fehlt in Neu")&" fehlt; "&COUNTIF(F6:F13,"Neu")&" neu; "&COUNTIF(F6:F13,"ID doppelt")&" doppelt." -> Aktuell: 3 unverändert; 2 geändert; 1 fehlt; 1 neu; 1 doppelt.
A25: Sollwerte sind fest: Gegenproben prüfen die Ergebniskategorie, nicht die Identität sämtlicher Quelldaten.
A27: Arbeitsprobe V1.1: acht feste Vergleichs-IDs; je 20 Eingabeplätze in Quelldaten, Zeilen 6–25.
A28: IDs als Text. Groß-/Kleinschreibung zählt nicht. Leerraum sowie *, ? und ~ werden beanstandet.
A29: Neue IDs werden als „ID nicht im Vergleich“ gemeldet. Mengen müssen echte Zahlen sein; Null ist gültig.
A30: Blau: Eingaben. Grau: feste Sollwerte. Blattschutz ohne Kennwort verhindert versehentliche Formeländerungen.
A31: Excel Desktop Windows geprüft am 03.11.2026: Version 16.0.20527.20112. Prüfstand V1.1.

Sheet Quelldaten
A2: Quelldaten · Fiktiver Mengenbestand
A3: Blau: Eingaben A6:B25 und E6:F25. Formeln und Sollwerte nicht ändern. Prüfspalten D/H beachten.
A4: =IF(SUMPRODUCT(--(D6:D25<>""),--(D6:D25<>"OK"))+SUMPRODUCT(--(H6:H25<>""),--(H6:H25<>"OK"))=0,"Eingaben: keine offenen Hinweise (Dubletten siehe Vergleich)","Eingaben prüfen: "&(SUMPRODUCT(--(D6:D25<>""),--(D6:D25<>"OK"))+SUMPRODUCT(--(H6:H25<>""),--(H6:H25<>"OK")))&" Zeile(n). Prüfspalten D und H lesen.") -> Eingaben: keine offenen Hinweise (Dubletten siehe Vergleich)
A5: ID Alt | B5: Menge Alt (Stück) | C5: Schlüssel Alt | D5: Prüfung Alt | E5: ID Neu | F5: Menge Neu (Stück) | G5: Schlüssel Neu | H5: Prüfung Neu
A6: A101 | B6: 12 | C6: =IF(A6="","","ID:"&A6) -> ID:A101 | D6: =IF(AND(A6="",B6=""),"",IF(A6="","ID fehlt",IF(NOT(ISTEXT(A6)),"ID muss Text sein",IF(OR(LEN(A6)>40,A6<>TRIM(CLEAN(A6)),ISNUMBER(FIND(" ",A6)),ISNUMBER(FIND(CHAR(160),A6)),ISNUMBER(FIND("*",A6)),ISNUMBER(FIND("?",A6)),ISNUMBER(FIND("~",A6))),"ID prüfen",IF(NOT(ISNUMBER(B6)),"Menge ungültig",IF(COUNTIF(Vergleich!$A$6:$A$13,A6)=0,"ID nicht im Vergleich","OK")))))) -> OK | E6: A102 | F6: 27 | G6: =IF(E6="","","ID:"&E6) -> ID:A102 | H6: =IF(AND(E6="",F6=""),"",IF(E6="","ID fehlt",IF(NOT(ISTEXT(E6)),"ID muss Text sein",IF(OR(LEN(E6)>40,E6<>TRIM(CLEAN(E6)),ISNUMBER(FIND(" ",E6)),ISNUMBER(FIND(CHAR(160),E6)),ISNUMBER(FIND("*",E6)),ISNUMBER(FIND("?",E6)),ISNUMBER(FIND("~",E6))),"ID prüfen",IF(NOT(ISNUMBER(F6)),"Menge ungültig",IF(COUNTIF(Vergleich!$A$6:$A$13,E6)=0,"ID nicht im Vergleich","OK")))))) -> OK
A7: A102 | B7: 24 | C7: =IF(A7="","","ID:"&A7) -> ID:A102 | D7: =IF(AND(A7="",B7=""),"",IF(A7="","ID fehlt",IF(NOT(ISTEXT(A7)),"ID muss Text sein",IF(OR(LEN(A7)>40,A7<>TRIM(CLEAN(A7)),ISNUMBER(FIND(" ",A7)),ISNUMBER(FIND(CHAR(160),A7)),ISNUMBER(FIND("*",A7)),ISNUMBER(FIND("?",A7)),ISNUMBER(FIND("~",A7))),"ID prüfen",IF(NOT(ISNUMBER(B7)),"Menge ungültig",IF(COUNTIF(Vergleich!$A$6:$A$13,A7)=0,"ID nicht im Vergleich","OK")))))) -> OK | E7: A101 | F7: 12 | G7: =IF(E7="","","ID:"&E7) -> ID:A101 | H7: =IF(AND(E7="",F7=""),"",IF(E7="","ID fehlt",IF(NOT(ISTEXT(E7)),"ID muss Text sein",IF(OR(LEN(E7)>40,E7<>TRIM(CLEAN(E7)),ISNUMBER(FIND(" ",E7)),ISNUMBER(FIND(CHAR(160),E7)),ISNUMBER(FIND("*",E7)),ISNUMBER(FIND("?",E7)),ISNUMBER(FIND("~",E7))),"ID prüfen",IF(NOT(ISNUMBER(F7)),"Menge ungültig",IF(COUNTIF(Vergleich!$A$6:$A$13,E7)=0,"ID nicht im Vergleich","OK")))))) -> OK
A8: A103 | B8: 18 | C8: =IF(A8="","","ID:"&A8) -> ID:A103 | D8: =IF(AND(A8="",B8=""),"",IF(A8="","ID fehlt",IF(NOT(ISTEXT(A8)),"ID muss Text sein",IF(OR(LEN(A8)>40,A8<>TRIM(CLEAN(A8)),ISNUMBER(FIND(" ",A8)),ISNUMBER(FIND(CHAR(160),A8)),ISNUMBER(FIND("*",A8)),ISNUMBER(FIND("?",A8)),ISNUMBER(FIND("~",A8))),"ID prüfen",IF(NOT(ISNUMBER(B8)),"Menge ungültig",IF(COUNTIF(Vergleich!$A$6:$A$13,A8)=0,"ID nicht im Vergleich","OK")))))) -> OK | E8: A104 | F8: 32 | G8: =IF(E8="","","ID:"&E8) -> ID:A104 | H8: =IF(AND(E8="",F8=""),"",IF(E8="","ID fehlt",IF(NOT(ISTEXT(E8)),"ID muss Text sein",IF(OR(LEN(E8)>40,E8<>TRIM(CLEAN(E8)),ISNUMBER(FIND(" ",E8)),ISNUMBER(FIND(CHAR(160),E8)),ISNUMBER(FIND("*",E8)),ISNUMBER(FIND("?",E8)),ISNUMBER(FIND("~",E8))),"ID prüfen",IF(NOT(ISNUMBER(F8)),"Menge ungültig",IF(COUNTIF(Vergleich!$A$6:$A$13,E8)=0,"ID nicht im Vergleich","OK")))))) -> OK
A9: A105 | B9: 40 | C9: =IF(A9="","","ID:"&A9) -> ID:A105 | D9: =IF(AND(A9="",B9=""),"",IF(A9="","ID fehlt",IF(NOT(ISTEXT(A9)),"ID muss Text sein",IF(OR(LEN(A9)>40,A9<>TRIM(CLEAN(A9)),ISNUMBER(FIND(" ",A9)),ISNUMBER(FIND(CHAR(160),A9)),ISNUMBER(FIND("*",A9)),ISNUMBER(FIND("?",A9)),ISNUMBER(FIND("~",A9))),"ID prüfen",IF(NOT(ISNUMBER(B9)),"Menge ungültig",IF(COUNTIF(Vergleich!$A$6:$A$13,A9)=0,"ID nicht im Vergleich","OK")))))) -> OK | E9: A105 | F9: 40 | G9: =IF(E9="","","ID:"&E9) -> ID:A105 | H9: =IF(AND(E9="",F9=""),"",IF(E9="","ID fehlt",IF(NOT(ISTEXT(E9)),"ID muss Text sein",IF(OR(LEN(E9)>40,E9<>TRIM(CLEAN(E9)),ISNUMBER(FIND(" ",E9)),ISNUMBER(FIND(CHAR(160),E9)),ISNUMBER(FIND("*",E9)),ISNUMBER(FIND("?",E9)),ISNUMBER(FIND("~",E9))),"ID prüfen",IF(NOT(ISNUMBER(F9)),"Menge ungültig",IF(COUNTIF(Vergleich!$A$6:$A$13,E9)=0,"ID nicht im Vergleich","OK")))))) -> OK
A10: A105 | B10: 41 | C10: =IF(A10="","","ID:"&A10) -> ID:A105 | D10: =IF(AND(A10="",B10=""),"",IF(A10="","ID fehlt",IF(NOT(ISTEXT(A10)),"ID muss Text sein",IF(OR(LEN(A10)>40,A10<>TRIM(CLEAN(A10)),ISNUMBER(FIND(" ",A10)),ISNUMBER(FIND(CHAR(160),A10)),ISNUMBER(FIND("*",A10)),ISNUMBER(FIND("?",A10)),ISNUMBER(FIND("~",A10))),"ID prüfen",IF(NOT(ISNUMBER(B10)),"Menge ungültig",IF(COUNTIF(Vergleich!$A$6:$A$13,A10)=0,"ID nicht im Vergleich","OK")))))) -> OK | E10: A106 | F10: 0 | G10: =IF(E10="","","ID:"&E10) -> ID:A106 | H10: =IF(AND(E10="",F10=""),"",IF(E10="","ID fehlt",IF(NOT(ISTEXT(E10)),"ID muss Text sein",IF(OR(LEN(E10)>40,E10<>TRIM(CLEAN(E10)),ISNUMBER(FIND(" ",E10)),ISNUMBER(FIND(CHAR(160),E10)),ISNUMBER(FIND("*",E10)),ISNUMBER(FIND("?",E10)),ISNUMBER(FIND("~",E10))),"ID prüfen",IF(NOT(ISNUMBER(F10)),"Menge ungültig",IF(COUNTIF(Vergleich!$A$6:$A$13,E10)=0,"ID nicht im Vergleich","OK")))))) -> OK
A11: A106 | B11: 0 | C11: =IF(A11="","","ID:"&A11) -> ID:A106 | D11: =IF(AND(A11="",B11=""),"",IF(A11="","ID fehlt",IF(NOT(ISTEXT(A11)),"ID muss Text sein",IF(OR(LEN(A11)>40,A11<>TRIM(CLEAN(A11)),ISNUMBER(FIND(" ",A11)),ISNUMBER(FIND(CHAR(160),A11)),ISNUMBER(FIND("*",A11)),ISNUMBER(FIND("?",A11)),ISNUMBER(FIND("~",A11))),"ID prüfen",IF(NOT(ISNUMBER(B11)),"Menge ungültig",IF(COUNTIF(Vergleich!$A$6:$A$13,A11)=0,"ID nicht im Vergleich","OK")))))) -> OK | E11: 00123 | F11: 5 | G11: =IF(E11="","","ID:"&E11) -> ID:00123 | H11: =IF(AND(E11="",F11=""),"",IF(E11="","ID fehlt",IF(NOT(ISTEXT(E11)),"ID muss Text sein",IF(OR(LEN(E11)>40,E11<>TRIM(CLEAN(E11)),ISNUMBER(FIND(" ",E11)),ISNUMBER(FIND(CHAR(160),E11)),ISNUMBER(FIND("*",E11)),ISNUMBER(FIND("?",E11)),ISNUMBER(FIND("~",E11))),"ID prüfen",IF(NOT(ISNUMBER(F11)),"Menge ungültig",IF(COUNTIF(Vergleich!$A$6:$A$13,E11)=0,"ID nicht im Vergleich","OK")))))) -> OK
A12: 00123 | B12: 5 | C12: =IF(A12="","","ID:"&A12) -> ID:00123 | D12: =IF(AND(A12="",B12=""),"",IF(A12="","ID fehlt",IF(NOT(ISTEXT(A12)),"ID muss Text sein",IF(OR(LEN(A12)>40,A12<>TRIM(CLEAN(A12)),ISNUMBER(FIND(" ",A12)),ISNUMBER(FIND(CHAR(160),A12)),ISNUMBER(FIND("*",A12)),ISNUMBER(FIND("?",A12)),ISNUMBER(FIND("~",A12))),"ID prüfen",IF(NOT(ISNUMBER(B12)),"Menge ungültig",IF(COUNTIF(Vergleich!$A$6:$A$13,A12)=0,"ID nicht im Vergleich","OK")))))) -> OK | E12: 123 | F12: 9 | G12: =IF(E12="","","ID:"&E12) -> ID:123 | H12: =IF(AND(E12="",F12=""),"",IF(E12="","ID fehlt",IF(NOT(ISTEXT(E12)),"ID muss Text sein",IF(OR(LEN(E12)>40,E12<>TRIM(CLEAN(E12)),ISNUMBER(FIND(" ",E12)),ISNUMBER(FIND(CHAR(160),E12)),ISNUMBER(FIND("*",E12)),ISNUMBER(FIND("?",E12)),ISNUMBER(FIND("~",E12))),"ID prüfen",IF(NOT(ISNUMBER(F12)),"Menge ungültig",IF(COUNTIF(Vergleich!$A$6:$A$13,E12)=0,"ID nicht im Vergleich","OK")))))) -> OK
A13: 123 | B13: 7 | C13: =IF(A13="","","ID:"&A13) -> ID:123 | D13: =IF(AND(A13="",B13=""),"",IF(A13="","ID fehlt",IF(NOT(ISTEXT(A13)),"ID muss Text sein",IF(OR(LEN(A13)>40,A13<>TRIM(CLEAN(A13)),ISNUMBER(FIND(" ",A13)),ISNUMBER(FIND(CHAR(160),A13)),ISNUMBER(FIND("*",A13)),ISNUMBER(FIND("?",A13)),ISNUMBER(FIND("~",A13))),"ID prüfen",IF(NOT(ISNUMBER(B13)),"Menge ungültig",IF(COUNTIF(Vergleich!$A$6:$A$13,A13)=0,"ID nicht im Vergleich","OK")))))) -> OK | G13: =IF(E13="","","ID:"&E13) | H13: =IF(AND(E13="",F13=""),"",IF(E13="","ID fehlt",IF(NOT(ISTEXT(E13)),"ID muss Text sein",IF(OR(LEN(E13)>40,E13<>TRIM(CLEAN(E13)),ISNUMBER(FIND(" ",E13)),ISNUMBER(FIND(CHAR(160),E13)),ISNUMBER(FIND("*",E13)),ISNUMBER(FIND("?",E13)),ISNUMBER(FIND("~",E13))),"ID prüfen",IF(NOT(ISNUMBER(F13)),"Menge ungültig",IF(COUNTIF(Vergleich!$A$6:$A$13,E13)=0,"ID nicht im Vergleich","OK"))))))
C14: =IF(A14="","","ID:"&A14) | D14: =IF(AND(A14="",B14=""),"",IF(A14="","ID fehlt",IF(NOT(ISTEXT(A14)),"ID muss Text sein",IF(OR(LEN(A14)>40,A14<>TRIM(CLEAN(A14)),ISNUMBER(FIND(" ",A14)),ISNUMBER(FIND(CHAR(160),A14)),ISNUMBER(FIND("*",A14)),ISNUMBER(FIND("?",A14)),ISNUMBER(FIND("~",A14))),"ID prüfen",IF(NOT(ISNUMBER(B14)),"Menge ungültig",IF(COUNTIF(Vergleich!$A$6:$A$13,A14)=0,"ID nicht im Vergleich","OK")))))) | G14: =IF(E14="","","ID:"&E14) | H14: =IF(AND(E14="",F14=""),"",IF(E14="","ID fehlt",IF(NOT(ISTEXT(E14)),"ID muss Text sein",IF(OR(LEN(E14)>40,E14<>TRIM(CLEAN(E14)),ISNUMBER(FIND(" ",E14)),ISNUMBER(FIND(CHAR(160),E14)),ISNUMBER(FIND("*",E14)),ISNUMBER(FIND("?",E14)),ISNUMBER(FIND("~",E14))),"ID prüfen",IF(NOT(ISNUMBER(F14)),"Menge ungültig",IF(COUNTIF(Vergleich!$A$6:$A$13,E14)=0,"ID nicht im Vergleich","OK"))))))
C15: =IF(A15="","","ID:"&A15) | D15: =IF(AND(A15="",B15=""),"",IF(A15="","ID fehlt",IF(NOT(ISTEXT(A15)),"ID muss Text sein",IF(OR(LEN(A15)>40,A15<>TRIM(CLEAN(A15)),ISNUMBER(FIND(" ",A15)),ISNUMBER(FIND(CHAR(160),A15)),ISNUMBER(FIND("*",A15)),ISNUMBER(FIND("?",A15)),ISNUMBER(FIND("~",A15))),"ID prüfen",IF(NOT(ISNUMBER(B15)),"Menge ungültig",IF(COUNTIF(Vergleich!$A$6:$A$13,A15)=0,"ID nicht im Vergleich","OK")))))) | G15: =IF(E15="","","ID:"&E15) | H15: =IF(AND(E15="",F15=""),"",IF(E15="","ID fehlt",IF(NOT(ISTEXT(E15)),"ID muss Text sein",IF(OR(LEN(E15)>40,E15<>TRIM(CLEAN(E15)),ISNUMBER(FIND(" ",E15)),ISNUMBER(FIND(CHAR(160),E15)),ISNUMBER(FIND("*",E15)),ISNUMBER(FIND("?",E15)),ISNUMBER(FIND("~",E15))),"ID prüfen",IF(NOT(ISNUMBER(F15)),"Menge ungültig",IF(COUNTIF(Vergleich!$A$6:$A$13,E15)=0,"ID nicht im Vergleich","OK"))))))
C16: =IF(A16="","","ID:"&A16) | D16: =IF(AND(A16="",B16=""),"",IF(A16="","ID fehlt",IF(NOT(ISTEXT(A16)),"ID muss Text sein",IF(OR(LEN(A16)>40,A16<>TRIM(CLEAN(A16)),ISNUMBER(FIND(" ",A16)),ISNUMBER(FIND(CHAR(160),A16)),ISNUMBER(FIND("*",A16)),ISNUMBER(FIND("?",A16)),ISNUMBER(FIND("~",A16))),"ID prüfen",IF(NOT(ISNUMBER(B16)),"Menge ungültig",IF(COUNTIF(Vergleich!$A$6:$A$13,A16)=0,"ID nicht im Vergleich","OK")))))) | G16: =IF(E16="","","ID:"&E16) | H16: =IF(AND(E16="",F16=""),"",IF(E16="","ID fehlt",IF(NOT(ISTEXT(E16)),"ID muss Text sein",IF(OR(LEN(E16)>40,E16<>TRIM(CLEAN(E16)),ISNUMBER(FIND(" ",E16)),ISNUMBER(FIND(CHAR(160),E16)),ISNUMBER(FIND("*",E16)),ISNUMBER(FIND("?",E16)),ISNUMBER(FIND("~",E16))),"ID prüfen",IF(NOT(ISNUMBER(F16)),"Menge ungültig",IF(COUNTIF(Vergleich!$A$6:$A$13,E16)=0,"ID nicht im Vergleich","OK"))))))
C17: =IF(A17="","","ID:"&A17) | D17: =IF(AND(A17="",B17=""),"",IF(A17="","ID fehlt",IF(NOT(ISTEXT(A17)),"ID muss Text sein",IF(OR(LEN(A17)>40,A17<>TRIM(CLEAN(A17)),ISNUMBER(FIND(" ",A17)),ISNUMBER(FIND(CHAR(160),A17)),ISNUMBER(FIND("*",A17)),ISNUMBER(FIND("?",A17)),ISNUMBER(FIND("~",A17))),"ID prüfen",IF(NOT(ISNUMBER(B17)),"Menge ungültig",IF(COUNTIF(Vergleich!$A$6:$A$13,A17)=0,"ID nicht im Vergleich","OK")))))) | G17: =IF(E17="","","ID:"&E17) | H17: =IF(AND(E17="",F17=""),"",IF(E17="","ID fehlt",IF(NOT(ISTEXT(E17)),"ID muss Text sein",IF(OR(LEN(E17)>40,E17<>TRIM(CLEAN(E17)),ISNUMBER(FIND(" ",E17)),ISNUMBER(FIND(CHAR(160),E17)),ISNUMBER(FIND("*",E17)),ISNUMBER(FIND("?",E17)),ISNUMBER(FIND("~",E17))),"ID prüfen",IF(NOT(ISNUMBER(F17)),"Menge ungültig",IF(COUNTIF(Vergleich!$A$6:$A$13,E17)=0,"ID nicht im Vergleich","OK"))))))
C18: =IF(A18="","","ID:"&A18) | D18: =IF(AND(A18="",B18=""),"",IF(A18="","ID fehlt",IF(NOT(ISTEXT(A18)),"ID muss Text sein",IF(OR(LEN(A18)>40,A18<>TRIM(CLEAN(A18)),ISNUMBER(FIND(" ",A18)),ISNUMBER(FIND(CHAR(160),A18)),ISNUMBER(FIND("*",A18)),ISNUMBER(FIND("?",A18)),ISNUMBER(FIND("~",A18))),"ID prüfen",IF(NOT(ISNUMBER(B18)),"Menge ungültig",IF(COUNTIF(Vergleich!$A$6:$A$13,A18)=0,"ID nicht im Vergleich","OK")))))) | G18: =IF(E18="","","ID:"&E18) | H18: =IF(AND(E18="",F18=""),"",IF(E18="","ID fehlt",IF(NOT(ISTEXT(E18)),"ID muss Text sein",IF(OR(LEN(E18)>40,E18<>TRIM(CLEAN(E18)),ISNUMBER(FIND(" ",E18)),ISNUMBER(FIND(CHAR(160),E18)),ISNUMBER(FIND("*",E18)),ISNUMBER(FIND("?",E18)),ISNUMBER(FIND("~",E18))),"ID prüfen",IF(NOT(ISNUMBER(F18)),"Menge ungültig",IF(COUNTIF(Vergleich!$A$6:$A$13,E18)=0,"ID nicht im Vergleich","OK"))))))
C19: =IF(A19="","","ID:"&A19) | D19: =IF(AND(A19="",B19=""),"",IF(A19="","ID fehlt",IF(NOT(ISTEXT(A19)),"ID muss Text sein",IF(OR(LEN(A19)>40,A19<>TRIM(CLEAN(A19)),ISNUMBER(FIND(" ",A19)),ISNUMBER(FIND(CHAR(160),A19)),ISNUMBER(FIND("*",A19)),ISNUMBER(FIND("?",A19)),ISNUMBER(FIND("~",A19))),"ID prüfen",IF(NOT(ISNUMBER(B19)),"Menge ungültig",IF(COUNTIF(Vergleich!$A$6:$A$13,A19)=0,"ID nicht im Vergleich","OK")))))) | G19: =IF(E19="","","ID:"&E19) | H19: =IF(AND(E19="",F19=""),"",IF(E19="","ID fehlt",IF(NOT(ISTEXT(E19)),"ID muss Text sein",IF(OR(LEN(E19)>40,E19<>TRIM(CLEAN(E19)),ISNUMBER(FIND(" ",E19)),ISNUMBER(FIND(CHAR(160),E19)),ISNUMBER(FIND("*",E19)),ISNUMBER(FIND("?",E19)),ISNUMBER(FIND("~",E19))),"ID prüfen",IF(NOT(ISNUMBER(F19)),"Menge ungültig",IF(COUNTIF(Vergleich!$A$6:$A$13,E19)=0,"ID nicht im Vergleich","OK"))))))
C20: =IF(A20="","","ID:"&A20) | D20: =IF(AND(A20="",B20=""),"",IF(A20="","ID fehlt",IF(NOT(ISTEXT(A20)),"ID muss Text sein",IF(OR(LEN(A20)>40,A20<>TRIM(CLEAN(A20)),ISNUMBER(FIND(" ",A20)),ISNUMBER(FIND(CHAR(160),A20)),ISNUMBER(FIND("*",A20)),ISNUMBER(FIND("?",A20)),ISNUMBER(FIND("~",A20))),"ID prüfen",IF(NOT(ISNUMBER(B20)),"Menge ungültig",IF(COUNTIF(Vergleich!$A$6:$A$13,A20)=0,"ID nicht im Vergleich","OK")))))) | G20: =IF(E20="","","ID:"&E20) | H20: =IF(AND(E20="",F20=""),"",IF(E20="","ID fehlt",IF(NOT(ISTEXT(E20)),"ID muss Text sein",IF(OR(LEN(E20)>40,E20<>TRIM(CLEAN(E20)),ISNUMBER(FIND(" ",E20)),ISNUMBER(FIND(CHAR(160),E20)),ISNUMBER(FIND("*",E20)),ISNUMBER(FIND("?",E20)),ISNUMBER(FIND("~",E20))),"ID prüfen",IF(NOT(ISNUMBER(F20)),"Menge ungültig",IF(COUNTIF(Vergleich!$A$6:$A$13,E20)=0,"ID nicht im Vergleich","OK"))))))
C21: =IF(A21="","","ID:"&A21) | D21: =IF(AND(A21="",B21=""),"",IF(A21="","ID fehlt",IF(NOT(ISTEXT(A21)),"ID muss Text sein",IF(OR(LEN(A21)>40,A21<>TRIM(CLEAN(A21)),ISNUMBER(FIND(" ",A21)),ISNUMBER(FIND(CHAR(160),A21)),ISNUMBER(FIND("*",A21)),ISNUMBER(FIND("?",A21)),ISNUMBER(FIND("~",A21))),"ID prüfen",IF(NOT(ISNUMBER(B21)),"Menge ungültig",IF(COUNTIF(Vergleich!$A$6:$A$13,A21)=0,"ID nicht im Vergleich","OK")))))) | G21: =IF(E21="","","ID:"&E21) | H21: =IF(AND(E21="",F21=""),"",IF(E21="","ID fehlt",IF(NOT(ISTEXT(E21)),"ID muss Text sein",IF(OR(LEN(E21)>40,E21<>TRIM(CLEAN(E21)),ISNUMBER(FIND(" ",E21)),ISNUMBER(FIND(CHAR(160),E21)),ISNUMBER(FIND("*",E21)),ISNUMBER(FIND("?",E21)),ISNUMBER(FIND("~",E21))),"ID prüfen",IF(NOT(ISNUMBER(F21)),"Menge ungültig",IF(COUNTIF(Vergleich!$A$6:$A$13,E21)=0,"ID nicht im Vergleich","OK"))))))
C22: =IF(A22="","","ID:"&A22) | D22: =IF(AND(A22="",B22=""),"",IF(A22="","ID fehlt",IF(NOT(ISTEXT(A22)),"ID muss Text sein",IF(OR(LEN(A22)>40,A22<>TRIM(CLEAN(A22)),ISNUMBER(FIND(" ",A22)),ISNUMBER(FIND(CHAR(160),A22)),ISNUMBER(FIND("*",A22)),ISNUMBER(FIND("?",A22)),ISNUMBER(FIND("~",A22))),"ID prüfen",IF(NOT(ISNUMBER(B22)),"Menge ungültig",IF(COUNTIF(Vergleich!$A$6:$A$13,A22)=0,"ID nicht im Vergleich","OK")))))) | G22: =IF(E22="","","ID:"&E22) | H22: =IF(AND(E22="",F22=""),"",IF(E22="","ID fehlt",IF(NOT(ISTEXT(E22)),"ID muss Text sein",IF(OR(LEN(E22)>40,E22<>TRIM(CLEAN(E22)),ISNUMBER(FIND(" ",E22)),ISNUMBER(FIND(CHAR(160),E22)),ISNUMBER(FIND("*",E22)),ISNUMBER(FIND("?",E22)),ISNUMBER(FIND("~",E22))),"ID prüfen",IF(NOT(ISNUMBER(F22)),"Menge ungültig",IF(COUNTIF(Vergleich!$A$6:$A$13,E22)=0,"ID nicht im Vergleich","OK"))))))
C23: =IF(A23="","","ID:"&A23) | D23: =IF(AND(A23="",B23=""),"",IF(A23="","ID fehlt",IF(NOT(ISTEXT(A23)),"ID muss Text sein",IF(OR(LEN(A23)>40,A23<>TRIM(CLEAN(A23)),ISNUMBER(FIND(" ",A23)),ISNUMBER(FIND(CHAR(160),A23)),ISNUMBER(FIND("*",A23)),ISNUMBER(FIND("?",A23)),ISNUMBER(FIND("~",A23))),"ID prüfen",IF(NOT(ISNUMBER(B23)),"Menge ungültig",IF(COUNTIF(Vergleich!$A$6:$A$13,A23)=0,"ID nicht im Vergleich","OK")))))) | G23: =IF(E23="","","ID:"&E23) | H23: =IF(AND(E23="",F23=""),"",IF(E23="","ID fehlt",IF(NOT(ISTEXT(E23)),"ID muss Text sein",IF(OR(LEN(E23)>40,E23<>TRIM(CLEAN(E23)),ISNUMBER(FIND(" ",E23)),ISNUMBER(FIND(CHAR(160),E23)),ISNUMBER(FIND("*",E23)),ISNUMBER(FIND("?",E23)),ISNUMBER(FIND("~",E23))),"ID prüfen",IF(NOT(ISNUMBER(F23)),"Menge ungültig",IF(COUNTIF(Vergleich!$A$6:$A$13,E23)=0,"ID nicht im Vergleich","OK"))))))
C24: =IF(A24="","","ID:"&A24) | D24: =IF(AND(A24="",B24=""),"",IF(A24="","ID fehlt",IF(NOT(ISTEXT(A24)),"ID muss Text sein",IF(OR(LEN(A24)>40,A24<>TRIM(CLEAN(A24)),ISNUMBER(FIND(" ",A24)),ISNUMBER(FIND(CHAR(160),A24)),ISNUMBER(FIND("*",A24)),ISNUMBER(FIND("?",A24)),ISNUMBER(FIND("~",A24))),"ID prüfen",IF(NOT(ISNUMBER(B24)),"Menge ungültig",IF(COUNTIF(Vergleich!$A$6:$A$13,A24)=0,"ID nicht im Vergleich","OK")))))) | G24: =IF(E24="","","ID:"&E24) | H24: =IF(AND(E24="",F24=""),"",IF(E24="","ID fehlt",IF(NOT(ISTEXT(E24)),"ID muss Text sein",IF(OR(LEN(E24)>40,E24<>TRIM(CLEAN(E24)),ISNUMBER(FIND(" ",E24)),ISNUMBER(FIND(CHAR(160),E24)),ISNUMBER(FIND("*",E24)),ISNUMBER(FIND("?",E24)),ISNUMBER(FIND("~",E24))),"ID prüfen",IF(NOT(ISNUMBER(F24)),"Menge ungültig",IF(COUNTIF(Vergleich!$A$6:$A$13,E24)=0,"ID nicht im Vergleich","OK"))))))
C25: =IF(A25="","","ID:"&A25) | D25: =IF(AND(A25="",B25=""),"",IF(A25="","ID fehlt",IF(NOT(ISTEXT(A25)),"ID muss Text sein",IF(OR(LEN(A25)>40,A25<>TRIM(CLEAN(A25)),ISNUMBER(FIND(" ",A25)),ISNUMBER(FIND(CHAR(160),A25)),ISNUMBER(FIND("*",A25)),ISNUMBER(FIND("?",A25)),ISNUMBER(FIND("~",A25))),"ID prüfen",IF(NOT(ISNUMBER(B25)),"Menge ungültig",IF(COUNTIF(Vergleich!$A$6:$A$13,A25)=0,"ID nicht im Vergleich","OK")))))) | G25: =IF(E25="","","ID:"&E25) | H25: =IF(AND(E25="",F25=""),"",IF(E25="","ID fehlt",IF(NOT(ISTEXT(E25)),"ID muss Text sein",IF(OR(LEN(E25)>40,E25<>TRIM(CLEAN(E25)),ISNUMBER(FIND(" ",E25)),ISNUMBER(FIND(CHAR(160),E25)),ISNUMBER(FIND("*",E25)),ISNUMBER(FIND("?",E25)),ISNUMBER(FIND("~",E25))),"ID prüfen",IF(NOT(ISNUMBER(F25)),"Menge ungültig",IF(COUNTIF(Vergleich!$A$6:$A$13,E25)=0,"ID nicht im Vergleich","OK"))))))
A28: Die neue Liste ist anders sortiert. A103 fehlt, A104 kommt hinzu, A102 und 123 ändern sich.
A30: A105 ist in Alt doppelt enthalten. Eine automatische Zuordnung wäre hier mehrdeutig.
A32: 00123 und 123 sind zwei verschiedene IDs. Beide sind ausdrücklich als Text gespeichert.
A34: Das Präfix ID: verhindert einen rein numerischen Vergleich dieser Textschlüssel.
A36: A106 hat eine echte Nullmenge. Null ist ein Wert und bedeutet nicht „fehlt“.
A38: Testidee: Menge Neu für A102 von 27 auf 24 setzen. Ergebnis wird „Unverändert“.
A39: Die Gegenprobe meldet dann eine Abweichung vom ursprünglichen Beispieldatensatz.
A40: 20 Zeilen je Liste. Neue IDs werden beanstandet. Blattschutz ohne Kennwort ist kein Vertraulichkeitsschutz.
